BEGIN:VCALENDAR
VERSION:2.0
PRODID:-//Carrefour jeunesse-emploi de Beauce-Nord - ECPv6.15.20//NONSGML v1.0//EN
CALSCALE:GREGORIAN
METHOD:PUBLISH
X-ORIGINAL-URL:https://cjebn.com
X-WR-CALDESC:Évènements pour Carrefour jeunesse-emploi de Beauce-Nord
REFRESH-INTERVAL;VALUE=DURATION:PT1H
X-Robots-Tag:noindex
X-PUBLISHED-TTL:PT1H
BEGIN:VTIMEZONE
TZID:America/Toronto
BEGIN:DAYLIGHT
TZOFFSETFROM:-0500
TZOFFSETTO:-0400
TZNAME:EDT
DTSTART:20250309T070000
END:DAYLIGHT
BEGIN:STANDARD
TZOFFSETFROM:-0400
TZOFFSETTO:-0500
TZNAME:EST
DTSTART:20251102T060000
END:STANDARD
BEGIN:DAYLIGHT
TZOFFSETFROM:-0500
TZOFFSETTO:-0400
TZNAME:EDT
DTSTART:20260308T070000
END:DAYLIGHT
BEGIN:STANDARD
TZOFFSETFROM:-0400
TZOFFSETTO:-0500
TZNAME:EST
DTSTART:20261101T060000
END:STANDARD
BEGIN:DAYLIGHT
TZOFFSETFROM:-0500
TZOFFSETTO:-0400
TZNAME:EDT
DTSTART:20270314T070000
END:DAYLIGHT
BEGIN:STANDARD
TZOFFSETFROM:-0400
TZOFFSETTO:-0500
TZNAME:EST
DTSTART:20271107T060000
END:STANDARD
END:VTIMEZONE
BEGIN:VEVENT
DTSTART;TZID=America/Toronto:20260421T180000
DTEND;TZID=America/Toronto:20260421T190000
DTSTAMP:20260422T095635
CREATED:20260416T201337Z
LAST-MODIFIED:20260416T201337Z
UID:2814-1776794400-1776798000@cjebn.com
SUMMARY:Placotons en français - mardi le 21 avril - 18 H
DESCRIPTION:– 𝐏𝐥𝐚𝐜𝐨𝐭𝐨𝐧𝐬 𝐞𝐧 𝐟𝐫𝐚𝐧𝐜̧𝐚𝐢𝐬 –\n\n\n\nLe CJE Beauce-Nord vous propose ses ateliers gratuits « Placotons en français »!\n\n\nAu programme : la prononciation\, les sons… et même un atelier sur l’arbre généalogique!\n\n\n\nMardi le 21 avril – 18 H\nVendredi le 1er mai – 14H\nMardi le 5 mai – 8 H\n\nÀ Sainte-Marie au 168\, Notre-Dame Sud CJEBN\n\n\nInscrivez-vous dès maintenant
URL:https://cjebn.com/activite/placotons-en-francais-mardi-le-21-avril-18-h/
LOCATION:CJEBN\, 168\, notre-dame sud\, Sainte-Marie\, Quebec\, g6e2w9\, Canada
ATTACH;FMTTYPE=image/png:https://cjebn.com/wp-content/uploads/2026/04/Placotons-2.png
END:VEVENT
END:VCALENDAR