BEGIN:VCALENDAR
VERSION:2.0
PRODID:-//Carrefour jeunesse-emploi de Beauce-Nord - ECPv6.15.20//NONSGML v1.0//EN
CALSCALE:GREGORIAN
METHOD:PUBLISH
X-ORIGINAL-URL:https://cjebn.com
X-WR-CALDESC:Évènements pour Carrefour jeunesse-emploi de Beauce-Nord
REFRESH-INTERVAL;VALUE=DURATION:PT1H
X-Robots-Tag:noindex
X-PUBLISHED-TTL:PT1H
BEGIN:VTIMEZONE
TZID:America/Toronto
BEGIN:DAYLIGHT
TZOFFSETFROM:-0500
TZOFFSETTO:-0400
TZNAME:EDT
DTSTART:20250309T070000
END:DAYLIGHT
BEGIN:STANDARD
TZOFFSETFROM:-0400
TZOFFSETTO:-0500
TZNAME:EST
DTSTART:20251102T060000
END:STANDARD
BEGIN:DAYLIGHT
TZOFFSETFROM:-0500
TZOFFSETTO:-0400
TZNAME:EDT
DTSTART:20260308T070000
END:DAYLIGHT
BEGIN:STANDARD
TZOFFSETFROM:-0400
TZOFFSETTO:-0500
TZNAME:EST
DTSTART:20261101T060000
END:STANDARD
BEGIN:DAYLIGHT
TZOFFSETFROM:-0500
TZOFFSETTO:-0400
TZNAME:EDT
DTSTART:20270314T070000
END:DAYLIGHT
BEGIN:STANDARD
TZOFFSETFROM:-0400
TZOFFSETTO:-0500
TZNAME:EST
DTSTART:20271107T060000
END:STANDARD
END:VTIMEZONE
BEGIN:VEVENT
DTSTART;TZID=America/Toronto:20260509T190000
DTEND;TZID=America/Toronto:20260509T220000
DTSTAMP:20260422T162700
CREATED:20260331T150926Z
LAST-MODIFIED:20260331T151638Z
UID:2743-1778353200-1778364000@cjebn.com
SUMMARY:Activité printanière - Saint-Joseph-de-Beauce - Samedi 9 mai
DESCRIPTION:Activité printanière interculturelle \nJoignez-vous à nous pour une soirée festive et rassembleuse mettant en vedette :\n-Les Jarrets Noirs – groupe québécois\n-Tropical Union – groupe cubain \n📅 Date : Samedi 9 mai\n🕖 Heure : 19 h à 22 h\n📍 Lieu : Centre Frameco\n700 Rte 173 N\, Saint-Joseph-de-Beauce \nUne soirée haute en couleur vous attend\, entre rythmes entraînants et découvertes culturelles. Venez célébrer avec nous dans une ambiance chaleureuse et festive!
URL:https://cjebn.com/activite/acitvite-printaniere-sainte-joseph-de-beauce-samedi-9-mai/
LOCATION:Centre Frameco\, 700\, route 173 Nord\, Saint-Joseph-de-Beauce\, Québec\, G0S 2V0\, Canada
ATTACH;FMTTYPE=image/png:https://cjebn.com/wp-content/uploads/2026/03/2026-CAIDI-Activite-printaniere-1.png
END:VEVENT
END:VCALENDAR