BEGIN:VCALENDAR
VERSION:2.0
PRODID:-//Carrefour jeunesse-emploi de Beauce-Nord - ECPv6.15.20//NONSGML v1.0//EN
CALSCALE:GREGORIAN
METHOD:PUBLISH
X-WR-CALNAME:Carrefour jeunesse-emploi de Beauce-Nord
X-ORIGINAL-URL:https://cjebn.com
X-WR-CALDESC:Évènements pour Carrefour jeunesse-emploi de Beauce-Nord
REFRESH-INTERVAL;VALUE=DURATION:PT1H
X-Robots-Tag:noindex
X-PUBLISHED-TTL:PT1H
BEGIN:VTIMEZONE
TZID:America/Toronto
BEGIN:DAYLIGHT
TZOFFSETFROM:-0500
TZOFFSETTO:-0400
TZNAME:EDT
DTSTART:20250309T070000
END:DAYLIGHT
BEGIN:STANDARD
TZOFFSETFROM:-0400
TZOFFSETTO:-0500
TZNAME:EST
DTSTART:20251102T060000
END:STANDARD
BEGIN:DAYLIGHT
TZOFFSETFROM:-0500
TZOFFSETTO:-0400
TZNAME:EDT
DTSTART:20260308T070000
END:DAYLIGHT
BEGIN:STANDARD
TZOFFSETFROM:-0400
TZOFFSETTO:-0500
TZNAME:EST
DTSTART:20261101T060000
END:STANDARD
BEGIN:DAYLIGHT
TZOFFSETFROM:-0500
TZOFFSETTO:-0400
TZNAME:EDT
DTSTART:20270314T070000
END:DAYLIGHT
BEGIN:STANDARD
TZOFFSETFROM:-0400
TZOFFSETTO:-0500
TZNAME:EST
DTSTART:20271107T060000
END:STANDARD
END:VTIMEZONE
BEGIN:VEVENT
DTSTART;TZID=America/Toronto:20260523T090000
DTEND;TZID=America/Toronto:20260523T130000
DTSTAMP:20260422T200234
CREATED:20260325T143414Z
LAST-MODIFIED:20260416T201905Z
UID:2730-1779526800-1779541200@cjebn.com
SUMMARY:Cuisine collective interculturelle - Saint-Joseph-de-Beauce - 23 mai
DESCRIPTION:En collaboration avec la municipalité de Saint-Joseph-de-Beauce \n\n\n\nDate: 23 mai 2026 \nHeure: 9 H à 13 H \nAdresse: 700\, route 173 Nord Saint-Joseph-de-Beauce G0S 2V0 (Centre Frameco) \n\n\n\nPréparer ensemble des plats d’ici et d’ailleurs.\nFaire de nouvelles rencontres\nRepartir avec les plats préparés durant l’atelier.\n\n\n\n\nINSCRIPTION OBLIGATOIRE
URL:https://cjebn.com/activite/cuisine-collective-interculturelle-saint-joseph-de-beauce-18-avril/
LOCATION:Centre Frameco\, 700\, route 173 Nord\, Saint-Joseph-de-Beauce\, Québec\, G0S 2V0\, Canada
ATTACH;FMTTYPE=image/png:https://cjebn.com/wp-content/uploads/2026/03/Saint-Joseph-23-mai.png
END:VEVENT
END:VCALENDAR