BEGIN:VCALENDAR
VERSION:2.0
PRODID:-//Carrefour jeunesse-emploi de Beauce-Nord - ECPv6.15.20//NONSGML v1.0//EN
CALSCALE:GREGORIAN
METHOD:PUBLISH
X-WR-CALNAME:Carrefour jeunesse-emploi de Beauce-Nord
X-ORIGINAL-URL:https://cjebn.com
X-WR-CALDESC:Évènements pour Carrefour jeunesse-emploi de Beauce-Nord
REFRESH-INTERVAL;VALUE=DURATION:PT1H
X-Robots-Tag:noindex
X-PUBLISHED-TTL:PT1H
BEGIN:VTIMEZONE
TZID:America/Toronto
BEGIN:DAYLIGHT
TZOFFSETFROM:-0500
TZOFFSETTO:-0400
TZNAME:EDT
DTSTART:20250309T070000
END:DAYLIGHT
BEGIN:STANDARD
TZOFFSETFROM:-0400
TZOFFSETTO:-0500
TZNAME:EST
DTSTART:20251102T060000
END:STANDARD
BEGIN:DAYLIGHT
TZOFFSETFROM:-0500
TZOFFSETTO:-0400
TZNAME:EDT
DTSTART:20260308T070000
END:DAYLIGHT
BEGIN:STANDARD
TZOFFSETFROM:-0400
TZOFFSETTO:-0500
TZNAME:EST
DTSTART:20261101T060000
END:STANDARD
BEGIN:DAYLIGHT
TZOFFSETFROM:-0500
TZOFFSETTO:-0400
TZNAME:EDT
DTSTART:20270314T070000
END:DAYLIGHT
BEGIN:STANDARD
TZOFFSETFROM:-0400
TZOFFSETTO:-0500
TZNAME:EST
DTSTART:20271107T060000
END:STANDARD
END:VTIMEZONE
BEGIN:VEVENT
DTSTART;TZID=America/Toronto:20260613T080000
DTEND;TZID=America/Toronto:20260613T123000
DTSTAMP:20260422T233059
CREATED:20260408T170802Z
LAST-MODIFIED:20260408T175833Z
UID:2741-1781337600-1781353800@cjebn.com
SUMMARY:Festival sportif - Sainte-Marie - Samedi 13 juin
DESCRIPTION:Date : 13 juin 2026Heure : 8 h à 12 hLieu : Sainte-Marie \nLe CJE Beauce-Nord prend part au Festival sportif de Sainte-Marie ! \nNous sommes à la recherche : \n\nde bénévoles pour contribuer au bon déroulement du festival ;\nde participants souhaitant prendre part aux courses à pied suivantes (voir ci-dessous).\n\nSi vous désirez participer à une course\, des frais s’appliquent selon la distance choisie. Vous devez vous inscrire sur le site web du Festival sportif et effectuer le paiement : Course à pied – Thepointofsale.com \n**Le CJE Beauce-Nord n’est aucunement responsable des paiements pour les inscriptions des courses. \nDéparts des courses : \n\n2 km : 11 h 40\n5\,88 km : 10 h\n10 km : 9 h 30\n21\,1 km : 8 h 30\n\nINSCRIPTION OBLIGATOIRE AVANT LE 8 MAIQue vous soyez bénévole ou participant à la course\, veuillez remplir ce formulaire afin de confirmer la taille de votre chandail (gracieuseté du CJE Beauce-Nord).
URL:https://cjebn.com/activite/festival-sportif-sainte-marie-samedi-13-juin/
LOCATION:Quebec
ATTACH;FMTTYPE=image/png:https://cjebn.com/wp-content/uploads/2026/04/option-2-1.png
END:VEVENT
END:VCALENDAR